BEGIN:VCALENDAR
VERSION:2.0
PRODID:-// - ECPv6.15.20//NONSGML v1.0//EN
CALSCALE:GREGORIAN
METHOD:PUBLISH
X-ORIGINAL-URL:https://mountainsiderotary.org
X-WR-CALDESC:Events for 
REFRESH-INTERVAL;VALUE=DURATION:PT1H
X-Robots-Tag:noindex
X-PUBLISHED-TTL:PT1H
BEGIN:VTIMEZONE
TZID:UTC
BEGIN:STANDARD
TZOFFSETFROM:+0000
TZOFFSETTO:+0000
TZNAME:UTC
DTSTART:20210101T000000
END:STANDARD
END:VTIMEZONE
BEGIN:VEVENT
DTSTART;TZID=UTC:20220414T121500
DTEND;TZID=UTC:20220414T133000
DTSTAMP:20260425T153838
CREATED:20220413T010539Z
LAST-MODIFIED:20220413T010539Z
UID:137-1649938500-1649943000@mountainsiderotary.org
SUMMARY:Zoom Meeting
DESCRIPTION:
URL:https://mountainsiderotary.org/event/zoom-meeting/
END:VEVENT
END:VCALENDAR