BEGIN:VCALENDAR
VERSION:2.0
PRODID:-// - ECPv6.15.20//NONSGML v1.0//EN
CALSCALE:GREGORIAN
METHOD:PUBLISH
X-ORIGINAL-URL:https://mountainsiderotary.org
X-WR-CALDESC:Events for 
REFRESH-INTERVAL;VALUE=DURATION:PT1H
X-Robots-Tag:noindex
X-PUBLISHED-TTL:PT1H
BEGIN:VTIMEZONE
TZID:UTC
BEGIN:STANDARD
TZOFFSETFROM:+0000
TZOFFSETTO:+0000
TZNAME:UTC
DTSTART:20210101T000000
END:STANDARD
END:VTIMEZONE
BEGIN:VEVENT
DTSTART;TZID=UTC:20220424T000000
DTEND;TZID=UTC:20220430T000000
DTSTAMP:20260425T153758
CREATED:20220413T012237Z
LAST-MODIFIED:20220413T012237Z
UID:148-1650758400-1651276800@mountainsiderotary.org
SUMMARY:World Immunization Week
DESCRIPTION:
URL:https://mountainsiderotary.org/event/world-immunization-week/
END:VEVENT
END:VCALENDAR