BEGIN:VCALENDAR
VERSION:2.0
PRODID:-// - ECPv6.15.20//NONSGML v1.0//EN
CALSCALE:GREGORIAN
METHOD:PUBLISH
X-ORIGINAL-URL:https://mountainsiderotary.org
X-WR-CALDESC:Events for 
REFRESH-INTERVAL;VALUE=DURATION:PT1H
X-Robots-Tag:noindex
X-PUBLISHED-TTL:PT1H
BEGIN:VTIMEZONE
TZID:UTC
BEGIN:STANDARD
TZOFFSETFROM:+0000
TZOFFSETTO:+0000
TZNAME:UTC
DTSTART:20210101T000000
END:STANDARD
END:VTIMEZONE
BEGIN:VEVENT
DTSTART;TZID=UTC:20220623T120000
DTEND;TZID=UTC:20220623T131500
DTSTAMP:20260425T125441
CREATED:20220607T142700Z
LAST-MODIFIED:20220607T142746Z
UID:234-1655985600-1655990100@mountainsiderotary.org
SUMMARY:Zoom meeting
DESCRIPTION:
URL:https://mountainsiderotary.org/event/zoom-meeting-4/
END:VEVENT
END:VCALENDAR