BEGIN:VCALENDAR
VERSION:2.0
PRODID:-// - ECPv6.15.20//NONSGML v1.0//EN
CALSCALE:GREGORIAN
METHOD:PUBLISH
X-ORIGINAL-URL:https://mountainsiderotary.org
X-WR-CALDESC:Events for 
REFRESH-INTERVAL;VALUE=DURATION:PT1H
X-Robots-Tag:noindex
X-PUBLISHED-TTL:PT1H
BEGIN:VTIMEZONE
TZID:UTC
BEGIN:STANDARD
TZOFFSETFROM:+0000
TZOFFSETTO:+0000
TZNAME:UTC
DTSTART:20250101T000000
END:STANDARD
END:VTIMEZONE
BEGIN:VEVENT
DTSTART;TZID=UTC:20260423T120000
DTEND;TZID=UTC:20260423T130000
DTSTAMP:20260420T003713
CREATED:20260418T222437Z
LAST-MODIFIED:20260418T222437Z
UID:641-1776945600-1776949200@mountainsiderotary.org
SUMMARY:Induction of New Members
DESCRIPTION:Welcome Mohit and Lisa!
URL:https://mountainsiderotary.org/event/induction-of-new-members/
LOCATION:Mosaico\, Mountainside
END:VEVENT
BEGIN:VEVENT
DTSTART;TZID=UTC:20260430T120000
DTEND;TZID=UTC:20260430T130000
DTSTAMP:20260420T003713
CREATED:20260410T115217Z
LAST-MODIFIED:20260410T115217Z
UID:628-1777550400-1777554000@mountainsiderotary.org
SUMMARY:Meet Maude Dahme
DESCRIPTION:Come hear Maude Dahme’s story a Dutch-born Holocaust survivor.  Maude is a noted educator\, author of “Chocolate\, The Taste of Freedom”. \nHosted at Mountainside Borough Hall
URL:https://mountainsiderotary.org/event/meet-maude-dahme/
END:VEVENT
END:VCALENDAR