BEGIN:VCALENDAR
VERSION:2.0
PRODID:-// - ECPv6.15.20//NONSGML v1.0//EN
CALSCALE:GREGORIAN
METHOD:PUBLISH
X-ORIGINAL-URL:https://mountainsiderotary.org
X-WR-CALDESC:Events for 
REFRESH-INTERVAL;VALUE=DURATION:PT1H
X-Robots-Tag:noindex
X-PUBLISHED-TTL:PT1H
BEGIN:VTIMEZONE
TZID:UTC
BEGIN:STANDARD
TZOFFSETFROM:+0000
TZOFFSETTO:+0000
TZNAME:UTC
DTSTART:20210101T000000
END:STANDARD
END:VTIMEZONE
BEGIN:VEVENT
DTSTART;TZID=UTC:20220505T121500
DTEND;TZID=UTC:20220505T133000
DTSTAMP:20260425T125305
CREATED:20220412T004055Z
LAST-MODIFIED:20220412T004401Z
UID:120-1651752900-1651757400@mountainsiderotary.org
SUMMARY:Stage House Rotary Meeting
DESCRIPTION:Weekly Meeting
URL:https://mountainsiderotary.org/event/stage-house-rotary-meeting/
LOCATION:Stage House Mountainside\, 1099-RT 22\, Mountainside\, 07092\, United States
END:VEVENT
BEGIN:VEVENT
DTSTART;TZID=UTC:20220512T100000
DTEND;TZID=UTC:20220512T130000
DTSTAMP:20260425T125305
CREATED:20220428T235033Z
LAST-MODIFIED:20220429T000852Z
UID:193-1652349600-1652360400@mountainsiderotary.org
SUMMARY:Daily Bread Sandwich Event
DESCRIPTION:Daily Bread Sandwich \nProgram
URL:https://mountainsiderotary.org/event/sand/
LOCATION:St Joseph Social Service Center\, Elizabeth
END:VEVENT
BEGIN:VEVENT
DTSTART;TZID=UTC:20220519T120000
DTEND;TZID=UTC:20220519T131500
DTSTAMP:20260425T125305
CREATED:20220414T173618Z
LAST-MODIFIED:20220506T234205Z
UID:152-1652961600-1652966100@mountainsiderotary.org
SUMMARY:Outback Steakhouse
DESCRIPTION:
URL:https://mountainsiderotary.org/event/outback-steakhouse/
END:VEVENT
BEGIN:VEVENT
DTSTART;TZID=UTC:20220526T120000
DTEND;TZID=UTC:20220526T131500
DTSTAMP:20260425T125305
CREATED:20220506T234117Z
LAST-MODIFIED:20220519T031020Z
UID:207-1653566400-1653570900@mountainsiderotary.org
SUMMARY:Zoom meeting with Mayor
DESCRIPTION:
URL:https://mountainsiderotary.org/event/zoom-meeting-2/
END:VEVENT
BEGIN:VEVENT
DTSTART;TZID=UTC:20220530T000000
DTEND;TZID=UTC:20220530T000000
DTSTAMP:20260425T125305
CREATED:20220519T030901Z
LAST-MODIFIED:20220519T030901Z
UID:224-1653868800-1653868800@mountainsiderotary.org
SUMMARY:Memorial Day Parade Participation
DESCRIPTION:
URL:https://mountainsiderotary.org/event/memorial-day-parade-participation/
END:VEVENT
END:VCALENDAR