BEGIN:VCALENDAR
VERSION:2.0
PRODID:-// - ECPv6.15.20//NONSGML v1.0//EN
CALSCALE:GREGORIAN
METHOD:PUBLISH
X-ORIGINAL-URL:https://mountainsiderotary.org
X-WR-CALDESC:Events for 
REFRESH-INTERVAL;VALUE=DURATION:PT1H
X-Robots-Tag:noindex
X-PUBLISHED-TTL:PT1H
BEGIN:VTIMEZONE
TZID:UTC
BEGIN:STANDARD
TZOFFSETFROM:+0000
TZOFFSETTO:+0000
TZNAME:UTC
DTSTART:20210101T000000
END:STANDARD
END:VTIMEZONE
BEGIN:VEVENT
DTSTART;TZID=UTC:20220901T120000
DTEND;TZID=UTC:20220901T131500
DTSTAMP:20260423T093805
CREATED:20220901T212527Z
LAST-MODIFIED:20220901T212527Z
UID:335-1662033600-1662038100@mountainsiderotary.org
SUMMARY:Zoom Meeting
DESCRIPTION:
URL:https://mountainsiderotary.org/event/zoom-meeting-10/
END:VEVENT
BEGIN:VEVENT
DTSTART;TZID=UTC:20220908T120000
DTEND;TZID=UTC:20220908T131500
DTSTAMP:20260423T093805
CREATED:20220901T212603Z
LAST-MODIFIED:20220901T212603Z
UID:337-1662638400-1662642900@mountainsiderotary.org
SUMMARY:Zoom Meeting
DESCRIPTION:
URL:https://mountainsiderotary.org/event/zoom-meeting-11/
END:VEVENT
BEGIN:VEVENT
DTSTART;TZID=UTC:20220922T120000
DTEND;TZID=UTC:20220922T131500
DTSTAMP:20260423T093805
CREATED:20220901T212421Z
LAST-MODIFIED:20220901T212421Z
UID:333-1663848000-1663852500@mountainsiderotary.org
SUMMARY:Joanne Rajoppi Union County Clerk
DESCRIPTION:
URL:https://mountainsiderotary.org/event/joanne-rajoppi-union-county-clerk/
LOCATION:Stage House Mountainside\, 1099-RT 22\, Mountainside\, 07092\, United States
END:VEVENT
END:VCALENDAR