BEGIN:VCALENDAR
VERSION:2.0
PRODID:-// - ECPv6.15.20//NONSGML v1.0//EN
CALSCALE:GREGORIAN
METHOD:PUBLISH
X-ORIGINAL-URL:https://mountainsiderotary.org
X-WR-CALDESC:Events for 
REFRESH-INTERVAL;VALUE=DURATION:PT1H
X-Robots-Tag:noindex
X-PUBLISHED-TTL:PT1H
BEGIN:VTIMEZONE
TZID:UTC
BEGIN:STANDARD
TZOFFSETFROM:+0000
TZOFFSETTO:+0000
TZNAME:UTC
DTSTART:20250101T000000
END:STANDARD
END:VTIMEZONE
BEGIN:VEVENT
DTSTART;TZID=UTC:20260507T120000
DTEND;TZID=UTC:20260507T130000
DTSTAMP:20260420T033605
CREATED:20260418T222745Z
LAST-MODIFIED:20260418T222745Z
UID:643-1778155200-1778158800@mountainsiderotary.org
SUMMARY:Mental Health Resources for Mental Health Awareness
DESCRIPTION:Mountainside Borough Hall in the Community Room light lunch will be served \n  \n 
URL:https://mountainsiderotary.org/event/mental-health-resources-for-mental-health-awareness/
END:VEVENT
END:VCALENDAR